BEGIN:VCALENDAR
VERSION:2.0
PRODID:-//wp-events-plugin.com//7.2.1//EN
TZID:Europe/Stockholm
X-WR-TIMEZONE:Europe/Stockholm
BEGIN:VEVENT
UID:58@arlandastadgolf.se
DTSTART:20260807T070000Z
DTEND:20260807T200000Z
DTSTAMP:20260108T130317Z
URL:https://arlandastadgolf.se/events/ladies-golf-challenge-2/
SUMMARY:Ladies Golf Challenge
DESCRIPTION:Årets största damtävling!
ATTACH;FMTTYPE=image/jpeg:https://arlandastadgolf.se/wp-content/uploads/20
 24/01/IMG_0785-1-scaled.jpg
LOCATION:Arlandastad Golf\, Norslunda Gård\, Rosersberg\, 195 95\, Sverige
X-APPLE-STRUCTURED-LOCATION;VALUE=URI;X-ADDRESS=Norslunda Gård\, Rosersber
 g\, 195 95\, Sverige;X-APPLE-RADIUS=100;X-TITLE=Arlandastad Golf:geo:0,0
END:VEVENT
END:VCALENDAR