BEGIN:VCALENDAR
VERSION:2.0
PRODID:-//wp-events-plugin.com//7.2.1//EN
TZID:Europe/Stockholm
X-WR-TIMEZONE:Europe/Stockholm
BEGIN:VEVENT
UID:54@arlandastadgolf.se
DTSTART:20260628T080000Z
DTEND:20260628T180000Z
DTSTAMP:20260108T130050Z
URL:https://arlandastadgolf.se/events/olles-minne/
SUMMARY:Olles Minne
DESCRIPTION:4-manna Texas Scramble - Till minne av Olle Fredriksson
ATTACH;FMTTYPE=image/jpeg:https://arlandastadgolf.se/wp-content/uploads/20
 23/12/92205beskard.jpg
LOCATION:Arlandastad Golf\, Norslunda Gård\, Rosersberg\, 195 95\, Sverige
X-APPLE-STRUCTURED-LOCATION;VALUE=URI;X-ADDRESS=Norslunda Gård\, Rosersber
 g\, 195 95\, Sverige;X-APPLE-RADIUS=100;X-TITLE=Arlandastad Golf:geo:0,0
END:VEVENT
END:VCALENDAR